BEGIN:VCALENDAR
VERSION:2.0
PRODID:-//Action Parkinson - ECPv6.15.20//NONSGML v1.0//EN
CALSCALE:GREGORIAN
METHOD:PUBLISH
X-WR-CALNAME:Action Parkinson
X-ORIGINAL-URL:https://www.actionparkinson.be
X-WR-CALDESC:Évènements pour Action Parkinson
REFRESH-INTERVAL;VALUE=DURATION:PT1H
X-Robots-Tag:noindex
X-PUBLISHED-TTL:PT1H
BEGIN:VTIMEZONE
TZID:Europe/Paris
BEGIN:DAYLIGHT
TZOFFSETFROM:+0100
TZOFFSETTO:+0200
TZNAME:CEST
DTSTART:20250330T010000
END:DAYLIGHT
BEGIN:STANDARD
TZOFFSETFROM:+0200
TZOFFSETTO:+0100
TZNAME:CET
DTSTART:20251026T010000
END:STANDARD
BEGIN:DAYLIGHT
TZOFFSETFROM:+0100
TZOFFSETTO:+0200
TZNAME:CEST
DTSTART:20260329T010000
END:DAYLIGHT
BEGIN:STANDARD
TZOFFSETFROM:+0200
TZOFFSETTO:+0100
TZNAME:CET
DTSTART:20261025T010000
END:STANDARD
BEGIN:DAYLIGHT
TZOFFSETFROM:+0100
TZOFFSETTO:+0200
TZNAME:CEST
DTSTART:20270328T010000
END:DAYLIGHT
BEGIN:STANDARD
TZOFFSETFROM:+0200
TZOFFSETTO:+0100
TZNAME:CET
DTSTART:20271031T010000
END:STANDARD
END:VTIMEZONE
BEGIN:VEVENT
DTSTART;TZID=Europe/Paris:20260424T100000
DTEND;TZID=Europe/Paris:20260424T110000
DTSTAMP:20260424T115057
CREATED:20260302T154751Z
LAST-MODIFIED:20260403T131013Z
UID:10001055-1777024800-1777028400@www.actionparkinson.be
SUMMARY:Boxe
DESCRIPTION:Cet entraînement spécial est donné par un coach qui a l’art de s’adapter de façon variée et dynamique. Bouger défoule ! \nLa boxe thérapie\, plus particulièrement à l’usage des parkinsoniens est née aux Etats-Unis\, à Indianapolis en 2006. La boxe fonctionne en déplaçant le corps dans tous les plans de mouvement tout en changeant constamment. \nLe but n’est la boxe en soi\, mais plutôt la combinaison d’activités qui sont communes à l’entraînement de la boxe et qui apportent un meilleur équilibre\, la coordination\, l’impulsivité\, la mémoire et la conscience de soi. \n  \nLes bienfaits de la boxe sont :\n\namélioration du cardio vasculaire\, de l’endurance et la respiration.\ndéveloppement des réflexes\, de l’agilité et la coordination.\nTravail des muscles et tonification du corps.\nDiminution du stress et amélioration de l’estime de soi.\n\nCes ateliers s’adressent à toutes les personnes atteintes de la maladie de Parkinson (et leur entourage) à savoir aussi bien en début de maladie que ceux souffrant de rigidité ou de bradykinésie plus prononcée.
URL:https://www.actionparkinson.be/activite-et-conference/boxe/2026-04-24/
LOCATION:Centre VS Boxing\, De Frélaan 82/84\, Uccle\, 180\, Belgium
CATEGORIES:Activités hebdomadaires
ATTACH;FMTTYPE=image/jpeg:https://www.actionparkinson.be/wp-content/uploads/2026/03/boxe-en-exterieru-avec-Carel-1.jpg
ORGANIZER;CN="Arno":MAILTO:info@actionparkinson.be
END:VEVENT
BEGIN:VEVENT
DTSTART;TZID=Europe/Paris:20260424T140000
DTEND;TZID=Europe/Paris:20260424T153000
DTSTAMP:20260424T115057
CREATED:20260309T145013Z
LAST-MODIFIED:20260409T085327Z
UID:10000796-1777039200-1777044600@www.actionparkinson.be
SUMMARY:Tango
DESCRIPTION:Les bienfaits du tango sont largement reconnus dans différents domaines.\nL’équilibre : le tango est une danse qui permet de réduire le risque de chutes et de fractures. Son rythme permet de retrouver un sens de l’équilibre et du mouvement. Il faut marcher\, se déplacer selon une musique régulière. Une des causes de la chute est la peur de cette chute. Pratiquer le tango redonne confiance. \nVoici le lien pour visionner une petite vidéo sur les bienfaits du tango: \nDanser-le-tango-pour-lutter-contre-Parkinson \nou encore un article ventant les bienfaits de la danse: Danser-pour-eloigner-la-maladie \nExemple du cours: la-Parada \n  \n  \nL’ostéoporose : Le fait de marteler le sol\, et ainsi\, de savoir se positionner sur une jambe ou l’autre grâce au transfert du poids du corps\, renforce l’ensemble des structures musculaires et osseuses. \nLe cœur : Quand on danse le tango on va avoir un effort musculaire progressif\, lent et régulier. Cela va solliciter le muscle cardiaque à une bonne fréquence\, ce qui va le renforcer et diminuer la tension artérielle. \nLa mémoire : Le tango a un impact sur les troubles de la mémoire. Le tango va redonner à l’individu des notions de situation de son corps dans l’espace et atténuer les troubles de la mémoire. La répétition du mouvement\, le repérage par rapport au partenaire\, la possibilité d’intervertir le guidage dans le couple sont des exercices bénéfiques pour la mémoire. \nLe social: l’interaction sociale et le partenariat que suppose le tango ont des résultats positifs sur l’humeur et le psychisme du patient. \nSi la danse est pratiquée agréablement avec le partenaire de vie\, elle est d’autant plus bénéfique pour le psychisme du couple. \nUne activité à pratiquer certainement sans modération ! \nPré-requis\nUne certaine autonomie de marche (des moments de pause sont possibles) \nContre-indication:\nPersonnes en chaise roulante.
URL:https://www.actionparkinson.be/activite-et-conference/atelier-tango/2026-04-24/
LOCATION:Vleurgat\, Action Parkinson\, Chaussée de Vleurgat 109\, Bruxelles\, 1050\, Belgium
CATEGORIES:Activités hebdomadaires
ATTACH;FMTTYPE=image/jpeg:https://www.actionparkinson.be/wp-content/uploads/2026/03/Tango-1.jpg
ORGANIZER;CN="Muriel Feyssaguet":MAILTO:info@actionparkinson.be
END:VEVENT
END:VCALENDAR